BEGIN:VCALENDAR
VERSION:2.0
PRODID:-//The Alaska Landmine - ECPv6.15.20//NONSGML v1.0//EN
CALSCALE:GREGORIAN
METHOD:PUBLISH
X-ORIGINAL-URL:https://alaskalandmine.com
X-WR-CALDESC:Events for The Alaska Landmine
REFRESH-INTERVAL;VALUE=DURATION:PT1H
X-Robots-Tag:noindex
X-PUBLISHED-TTL:PT1H
BEGIN:VTIMEZONE
TZID:America/Anchorage
BEGIN:DAYLIGHT
TZOFFSETFROM:-0900
TZOFFSETTO:-0800
TZNAME:AKDT
DTSTART:20250309T110000
END:DAYLIGHT
BEGIN:STANDARD
TZOFFSETFROM:-0800
TZOFFSETTO:-0900
TZNAME:AKST
DTSTART:20251102T100000
END:STANDARD
BEGIN:DAYLIGHT
TZOFFSETFROM:-0900
TZOFFSETTO:-0800
TZNAME:AKDT
DTSTART:20260308T110000
END:DAYLIGHT
BEGIN:STANDARD
TZOFFSETFROM:-0800
TZOFFSETTO:-0900
TZNAME:AKST
DTSTART:20261101T100000
END:STANDARD
BEGIN:DAYLIGHT
TZOFFSETFROM:-0900
TZOFFSETTO:-0800
TZNAME:AKDT
DTSTART:20270314T110000
END:DAYLIGHT
BEGIN:STANDARD
TZOFFSETFROM:-0800
TZOFFSETTO:-0900
TZNAME:AKST
DTSTART:20271107T100000
END:STANDARD
END:VTIMEZONE
BEGIN:VEVENT
DTSTART;TZID=America/Anchorage:20260409T190000
DTEND;TZID=America/Anchorage:20260409T220000
DTSTAMP:20260421T074557
CREATED:20260414T030439Z
LAST-MODIFIED:20260414T030439Z
UID:30223-1775761200-1775772000@alaskalandmine.com
SUMMARY:Legislative Bowling League
DESCRIPTION:
URL:https://alaskalandmine.com/event/legislative-bowling-league-9/
LOCATION:PINZ\, 608 W Willoughby Ave.\, Juneau\, Alaska
END:VEVENT
BEGIN:VEVENT
DTSTART;TZID=America/Anchorage:20260416T190000
DTEND;TZID=America/Anchorage:20260416T220000
DTSTAMP:20260421T074557
CREATED:20260414T030527Z
LAST-MODIFIED:20260414T030527Z
UID:30226-1776366000-1776376800@alaskalandmine.com
SUMMARY:Legislative Bowling League
DESCRIPTION:
URL:https://alaskalandmine.com/event/legislative-bowling-league-10/
LOCATION:PINZ\, 608 W Willoughby Ave.\, Juneau\, Alaska
END:VEVENT
BEGIN:VEVENT
DTSTART;TZID=America/Anchorage:20260423T170000
DTEND;TZID=America/Anchorage:20260423T190000
DTSTAMP:20260421T074557
CREATED:20260407T215909Z
LAST-MODIFIED:20260407T215909Z
UID:29899-1776963600-1776970800@alaskalandmine.com
SUMMARY:UAA Legislative Reception
DESCRIPTION:Reception with UAA Chancellor Cheryl Siemers. 
URL:https://alaskalandmine.com/event/uaa-legislative-reception/
LOCATION:Amalga Distillery\, 134 N Franklin St.\, Juneau\, Alaska
END:VEVENT
BEGIN:VEVENT
DTSTART;TZID=America/Anchorage:20260423T190000
DTEND;TZID=America/Anchorage:20260423T220000
DTSTAMP:20260421T074557
CREATED:20260414T030811Z
LAST-MODIFIED:20260414T030811Z
UID:30228-1776970800-1776981600@alaskalandmine.com
SUMMARY:Legislative Bowling League
DESCRIPTION:
URL:https://alaskalandmine.com/event/legislative-bowling-league-11/
LOCATION:PINZ\, 608 W Willoughby Ave.\, Juneau\, Alaska
END:VEVENT
BEGIN:VEVENT
DTSTART;TZID=America/Anchorage:20260425T183000
DTEND;TZID=America/Anchorage:20260425T220000
DTSTAMP:20260421T074557
CREATED:20260326T230703Z
LAST-MODIFIED:20260326T230703Z
UID:29541-1777141800-1777154400@alaskalandmine.com
SUMMARY:Legislative Skits
DESCRIPTION:
URL:https://alaskalandmine.com/event/legislative-skits/
LOCATION:Centennial Hall\, 101 Egan Drive\, Juneau\, Alaska
END:VEVENT
BEGIN:VEVENT
DTSTART;TZID=America/Anchorage:20260430T190000
DTEND;TZID=America/Anchorage:20260430T220000
DTSTAMP:20260421T074557
CREATED:20260414T030849Z
LAST-MODIFIED:20260414T030849Z
UID:30230-1777575600-1777586400@alaskalandmine.com
SUMMARY:Legislative Bowling League
DESCRIPTION:
URL:https://alaskalandmine.com/event/legislative-bowling-league-12/
LOCATION:PINZ\, 608 W Willoughby Ave.\, Juneau\, Alaska
END:VEVENT
END:VCALENDAR