BEGIN:VCALENDAR
VERSION:2.0
PRODID:-//The Alaska Landmine - ECPv6.15.20//NONSGML v1.0//EN
CALSCALE:GREGORIAN
METHOD:PUBLISH
X-ORIGINAL-URL:https://alaskalandmine.com
X-WR-CALDESC:Events for The Alaska Landmine
REFRESH-INTERVAL;VALUE=DURATION:PT1H
X-Robots-Tag:noindex
X-PUBLISHED-TTL:PT1H
BEGIN:VTIMEZONE
TZID:America/Anchorage
BEGIN:DAYLIGHT
TZOFFSETFROM:-0900
TZOFFSETTO:-0800
TZNAME:AKDT
DTSTART:20250309T110000
END:DAYLIGHT
BEGIN:STANDARD
TZOFFSETFROM:-0800
TZOFFSETTO:-0900
TZNAME:AKST
DTSTART:20251102T100000
END:STANDARD
BEGIN:DAYLIGHT
TZOFFSETFROM:-0900
TZOFFSETTO:-0800
TZNAME:AKDT
DTSTART:20260308T110000
END:DAYLIGHT
BEGIN:STANDARD
TZOFFSETFROM:-0800
TZOFFSETTO:-0900
TZNAME:AKST
DTSTART:20261101T100000
END:STANDARD
BEGIN:DAYLIGHT
TZOFFSETFROM:-0900
TZOFFSETTO:-0800
TZNAME:AKDT
DTSTART:20270314T110000
END:DAYLIGHT
BEGIN:STANDARD
TZOFFSETFROM:-0800
TZOFFSETTO:-0900
TZNAME:AKST
DTSTART:20271107T100000
END:STANDARD
END:VTIMEZONE
BEGIN:VEVENT
DTSTART;TZID=America/Anchorage:20260331T170000
DTEND;TZID=America/Anchorage:20260331T180000
DTSTAMP:20260420T220544
CREATED:20260325T220102Z
LAST-MODIFIED:20260325T220102Z
UID:29510-1774976400-1774980000@alaskalandmine.com
SUMMARY:Senator Murkowski Legislative Staff Reception
DESCRIPTION:
URL:https://alaskalandmine.com/event/senator-murkowski-legislative-staff-reception/
LOCATION:Devil’s Club\, 100 N Franklin St.\, Juneau\, AK\, 99801
END:VEVENT
BEGIN:VEVENT
DTSTART;TZID=America/Anchorage:20260331T173000
DTEND;TZID=America/Anchorage:20260331T190000
DTSTAMP:20260420T220544
CREATED:20260226T235824Z
LAST-MODIFIED:20260226T235824Z
UID:28316-1774978200-1774983600@alaskalandmine.com
SUMMARY:Ted Stevens Foundation Legislative Intern Celebration
DESCRIPTION:
URL:https://alaskalandmine.com/event/ted-stevens-foundation-legislative-intern-celebration/
LOCATION:Governor’s Mansion\, 716 Calhoun Ave.\, Juneau\, Alaska
END:VEVENT
BEGIN:VEVENT
DTSTART;TZID=America/Anchorage:20260331T180000
DTEND;TZID=America/Anchorage:20260331T200000
DTSTAMP:20260420T220544
CREATED:20260218T204643Z
LAST-MODIFIED:20260218T204643Z
UID:27948-1774980000-1774987200@alaskalandmine.com
SUMMARY:Alaska's Heart Through Student Art Reception
DESCRIPTION:
URL:https://alaskalandmine.com/event/alaskas-heart-through-student-art-reception/
LOCATION:Andrew P. Kashevaroff Building\, 395 Whittier St.\, Juneau\, Alaska
END:VEVENT
BEGIN:VEVENT
DTSTART;TZID=America/Anchorage:20260331T180000
DTEND;TZID=America/Anchorage:20260331T203000
DTSTAMP:20260420T220544
CREATED:20260327T223010Z
LAST-MODIFIED:20260327T223010Z
UID:29577-1774980000-1774989000@alaskalandmine.com
SUMMARY:NEA-Alaska Legislative Reception
DESCRIPTION:
URL:https://alaskalandmine.com/event/nea-alaska-legislative-reception/
LOCATION:Wharf Ballroom\, 2 Marine Way\, Juneau\, Alaska
END:VEVENT
END:VCALENDAR