BEGIN:VCALENDAR
VERSION:2.0
PRODID:-//The Alaska Landmine - ECPv6.15.20//NONSGML v1.0//EN
CALSCALE:GREGORIAN
METHOD:PUBLISH
X-WR-CALNAME:The Alaska Landmine
X-ORIGINAL-URL:https://alaskalandmine.com
X-WR-CALDESC:Events for The Alaska Landmine
REFRESH-INTERVAL;VALUE=DURATION:PT1H
X-Robots-Tag:noindex
X-PUBLISHED-TTL:PT1H
BEGIN:VTIMEZONE
TZID:America/Anchorage
BEGIN:DAYLIGHT
TZOFFSETFROM:-0900
TZOFFSETTO:-0800
TZNAME:AKDT
DTSTART:20250309T110000
END:DAYLIGHT
BEGIN:STANDARD
TZOFFSETFROM:-0800
TZOFFSETTO:-0900
TZNAME:AKST
DTSTART:20251102T100000
END:STANDARD
BEGIN:DAYLIGHT
TZOFFSETFROM:-0900
TZOFFSETTO:-0800
TZNAME:AKDT
DTSTART:20260308T110000
END:DAYLIGHT
BEGIN:STANDARD
TZOFFSETFROM:-0800
TZOFFSETTO:-0900
TZNAME:AKST
DTSTART:20261101T100000
END:STANDARD
BEGIN:DAYLIGHT
TZOFFSETFROM:-0900
TZOFFSETTO:-0800
TZNAME:AKDT
DTSTART:20270314T110000
END:DAYLIGHT
BEGIN:STANDARD
TZOFFSETFROM:-0800
TZOFFSETTO:-0900
TZNAME:AKST
DTSTART:20271107T100000
END:STANDARD
END:VTIMEZONE
BEGIN:VEVENT
DTSTART;TZID=America/Anchorage:20260328T200000
DTEND;TZID=America/Anchorage:20260328T233000
DTSTAMP:20260421T011239
CREATED:20260323T235806Z
LAST-MODIFIED:20260323T235844Z
UID:29442-1774728000-1774740600@alaskalandmine.com
SUMMARY:Sham Jam 41
DESCRIPTION:
URL:https://alaskalandmine.com/event/sham-jam-41/
LOCATION:The Alaskan\, 167 S Franklin St.\, Juneau\, AK\, 99801
END:VEVENT
END:VCALENDAR