BEGIN:VCALENDAR
VERSION:2.0
PRODID:-//The Alaska Landmine - ECPv6.15.20//NONSGML v1.0//EN
CALSCALE:GREGORIAN
METHOD:PUBLISH
X-ORIGINAL-URL:https://alaskalandmine.com
X-WR-CALDESC:Events for The Alaska Landmine
REFRESH-INTERVAL;VALUE=DURATION:PT1H
X-Robots-Tag:noindex
X-PUBLISHED-TTL:PT1H
BEGIN:VTIMEZONE
TZID:America/Anchorage
BEGIN:DAYLIGHT
TZOFFSETFROM:-0900
TZOFFSETTO:-0800
TZNAME:AKDT
DTSTART:20250309T110000
END:DAYLIGHT
BEGIN:STANDARD
TZOFFSETFROM:-0800
TZOFFSETTO:-0900
TZNAME:AKST
DTSTART:20251102T100000
END:STANDARD
BEGIN:DAYLIGHT
TZOFFSETFROM:-0900
TZOFFSETTO:-0800
TZNAME:AKDT
DTSTART:20260308T110000
END:DAYLIGHT
BEGIN:STANDARD
TZOFFSETFROM:-0800
TZOFFSETTO:-0900
TZNAME:AKST
DTSTART:20261101T100000
END:STANDARD
BEGIN:DAYLIGHT
TZOFFSETFROM:-0900
TZOFFSETTO:-0800
TZNAME:AKDT
DTSTART:20270314T110000
END:DAYLIGHT
BEGIN:STANDARD
TZOFFSETFROM:-0800
TZOFFSETTO:-0900
TZNAME:AKST
DTSTART:20271107T100000
END:STANDARD
END:VTIMEZONE
BEGIN:VEVENT
DTSTART;TZID=America/Anchorage:20260311T170000
DTEND;TZID=America/Anchorage:20260311T190000
DTSTAMP:20260421T043217
CREATED:20260303T195637Z
LAST-MODIFIED:20260303T195637Z
UID:28601-1773248400-1773255600@alaskalandmine.com
SUMMARY:Let's Taco 'Bout Alaska Caregivers
DESCRIPTION:
URL:https://alaskalandmine.com/event/lets-taco-bout-alaska-caregivers/
LOCATION:The Pottery Jungle\, 223 Seward St.\, Juneau\, Alaska
END:VEVENT
BEGIN:VEVENT
DTSTART;TZID=America/Anchorage:20260311T173000
DTEND;TZID=America/Anchorage:20260311T210000
DTSTAMP:20260421T043217
CREATED:20260206T220906Z
LAST-MODIFIED:20260211T020046Z
UID:27470-1773250200-1773262800@alaskalandmine.com
SUMMARY:Resident Hunters of Alaska Legislative Reception
DESCRIPTION:
URL:https://alaskalandmine.com/event/resident-hunters-of-alaska-legislative-reception/
LOCATION:Wharf Ballroom\, 2 Marine Way\, Juneau\, Alaska
END:VEVENT
END:VCALENDAR