BEGIN:VCALENDAR
VERSION:2.0
PRODID:-//The Alaska Landmine - ECPv6.15.20//NONSGML v1.0//EN
CALSCALE:GREGORIAN
METHOD:PUBLISH
X-ORIGINAL-URL:https://alaskalandmine.com
X-WR-CALDESC:Events for The Alaska Landmine
REFRESH-INTERVAL;VALUE=DURATION:PT1H
X-Robots-Tag:noindex
X-PUBLISHED-TTL:PT1H
BEGIN:VTIMEZONE
TZID:America/Anchorage
BEGIN:DAYLIGHT
TZOFFSETFROM:-0900
TZOFFSETTO:-0800
TZNAME:AKDT
DTSTART:20250309T110000
END:DAYLIGHT
BEGIN:STANDARD
TZOFFSETFROM:-0800
TZOFFSETTO:-0900
TZNAME:AKST
DTSTART:20251102T100000
END:STANDARD
BEGIN:DAYLIGHT
TZOFFSETFROM:-0900
TZOFFSETTO:-0800
TZNAME:AKDT
DTSTART:20260308T110000
END:DAYLIGHT
BEGIN:STANDARD
TZOFFSETFROM:-0800
TZOFFSETTO:-0900
TZNAME:AKST
DTSTART:20261101T100000
END:STANDARD
BEGIN:DAYLIGHT
TZOFFSETFROM:-0900
TZOFFSETTO:-0800
TZNAME:AKDT
DTSTART:20270314T110000
END:DAYLIGHT
BEGIN:STANDARD
TZOFFSETFROM:-0800
TZOFFSETTO:-0900
TZNAME:AKST
DTSTART:20271107T100000
END:STANDARD
END:VTIMEZONE
BEGIN:VEVENT
DTSTART;TZID=America/Anchorage:20260310T173000
DTEND;TZID=America/Anchorage:20260310T200000
DTSTAMP:20260421T041956
CREATED:20260228T001329Z
LAST-MODIFIED:20260228T001329Z
UID:28368-1773163800-1773172800@alaskalandmine.com
SUMMARY:Bristol Bay Forever Legislative Reception
DESCRIPTION:
URL:https://alaskalandmine.com/event/bristol-bay-forever-legislative-reception/
LOCATION:Wharf Ballroom\, 2 Marine Way\, Juneau\, Alaska
END:VEVENT
BEGIN:VEVENT
DTSTART;TZID=America/Anchorage:20260310T180000
DTEND;TZID=America/Anchorage:20260310T210000
DTSTAMP:20260421T041956
CREATED:20260305T055303Z
LAST-MODIFIED:20260305T055303Z
UID:28661-1773165600-1773176400@alaskalandmine.com
SUMMARY:Honky Tonk Dance Class & Social
DESCRIPTION:
URL:https://alaskalandmine.com/event/honky-tonk-dance-class-social/
LOCATION:Red Dog Saloon\, 278 Franklin St.\, Juneau\, Alaska\, 99801
END:VEVENT
END:VCALENDAR