BEGIN:VCALENDAR
VERSION:2.0
PRODID:-//The Alaska Landmine - ECPv6.15.20//NONSGML v1.0//EN
CALSCALE:GREGORIAN
METHOD:PUBLISH
X-WR-CALNAME:The Alaska Landmine
X-ORIGINAL-URL:https://alaskalandmine.com
X-WR-CALDESC:Events for The Alaska Landmine
REFRESH-INTERVAL;VALUE=DURATION:PT1H
X-Robots-Tag:noindex
X-PUBLISHED-TTL:PT1H
BEGIN:VTIMEZONE
TZID:America/Anchorage
BEGIN:DAYLIGHT
TZOFFSETFROM:-0900
TZOFFSETTO:-0800
TZNAME:AKDT
DTSTART:20250309T110000
END:DAYLIGHT
BEGIN:STANDARD
TZOFFSETFROM:-0800
TZOFFSETTO:-0900
TZNAME:AKST
DTSTART:20251102T100000
END:STANDARD
BEGIN:DAYLIGHT
TZOFFSETFROM:-0900
TZOFFSETTO:-0800
TZNAME:AKDT
DTSTART:20260308T110000
END:DAYLIGHT
BEGIN:STANDARD
TZOFFSETFROM:-0800
TZOFFSETTO:-0900
TZNAME:AKST
DTSTART:20261101T100000
END:STANDARD
BEGIN:DAYLIGHT
TZOFFSETFROM:-0900
TZOFFSETTO:-0800
TZNAME:AKDT
DTSTART:20270314T110000
END:DAYLIGHT
BEGIN:STANDARD
TZOFFSETFROM:-0800
TZOFFSETTO:-0900
TZNAME:AKST
DTSTART:20271107T100000
END:STANDARD
END:VTIMEZONE
BEGIN:VEVENT
DTSTART;TZID=America/Anchorage:20260121T170000
DTEND;TZID=America/Anchorage:20260121T190000
DTSTAMP:20260421T073606
CREATED:20260205T043812Z
LAST-MODIFIED:20260210T024341Z
UID:27403-1769014800-1769022000@alaskalandmine.com
SUMMARY:Sealaska Heritage Institute and Sealaska Reception
DESCRIPTION:Screenshot
URL:https://alaskalandmine.com/event/sealaska-heritage-institute-and-sealaska/
LOCATION:Walter Soboleff Building\, 105 Heritage Way\, Juneau\, Alaska
END:VEVENT
END:VCALENDAR